BEGIN:VCALENDAR
VERSION:2.0
PRODID:-// - ECPv5.11.0//NONSGML v1.0//EN
CALSCALE:GREGORIAN
METHOD:PUBLISH
X-ORIGINAL-URL:https://fightingspirittkd.co.uk
X-WR-CALDESC:Events for 
BEGIN:VTIMEZONE
TZID:UTC
BEGIN:STANDARD
TZOFFSETFROM:+0000
TZOFFSETTO:+0000
TZNAME:UTC
DTSTART:20240101T000000
END:STANDARD
END:VTIMEZONE
BEGIN:VEVENT
DTSTART;TZID=UTC:20240630T140000
DTEND;TZID=UTC:20240630T180000
DTSTAMP:20260423T154949
CREATED:20240608T200703Z
LAST-MODIFIED:20240608T201425Z
UID:2887-1719756000-1719770400@fightingspirittkd.co.uk
SUMMARY:Training Seminar ( Poomsae & Combat Sport )
DESCRIPTION:Dear Members\, \nFor your information\, Way Taekwondo & Fighting Spirit Taekwondo – are organising a Training Seminar for our students\,\nto encourage them towards competition level Poomsae and Combat Sport. The event duration will be 4 hours.\nDo not miss this opportunity. \nPlease note that this event will consist of two sessions.\nIn the first session\, participants will receive detailed instruction and Training in Poomsae & Combat Sport.\nFollowing this\, in the second session\, students will engage in more practical exercises simulating a competition setting.\nMedals will be awarded to winners at the conclusion of the event. \nVenue: The Stour Centre\, Station Approach\, Ashford TN23 1ET \nDate: Sunday\, 30th June 2024 \nTime: 2pm – 6pm \nEntry Fee: £25 ( Cash at the entrance )
URL:https://fightingspirittkd.co.uk/event/training-seminar-poomsae-combat-sport/
CATEGORIES:Events
END:VEVENT
END:VCALENDAR