BEGIN:VCALENDAR
VERSION:2.0
PRODID:-// - ECPv5.11.0//NONSGML v1.0//EN
CALSCALE:GREGORIAN
METHOD:PUBLISH
X-ORIGINAL-URL:https://fightingspirittkd.co.uk
X-WR-CALDESC:Events for 
BEGIN:VTIMEZONE
TZID:UTC
BEGIN:STANDARD
TZOFFSETFROM:+0000
TZOFFSETTO:+0000
TZNAME:UTC
DTSTART:20250101T000000
END:STANDARD
END:VTIMEZONE
BEGIN:VEVENT
DTSTART;TZID=UTC:20250731T180000
DTEND;TZID=UTC:20250731T203000
DTSTAMP:20260421T030413
CREATED:20250418T100147Z
LAST-MODIFIED:20250518T095853Z
UID:3181-1753984800-1753993800@fightingspirittkd.co.uk
SUMMARY:Kup Grading
DESCRIPTION:Fighting Spirit Taekwondo\nThe next Kup grading will take place on Thursday 31st July 2025\, at 6:00 pm – 8:30 pm\, \nGreat chart village hall.
URL:https://fightingspirittkd.co.uk/event/kup-grading/
CATEGORIES:Events
ATTACH;FMTTYPE=image/jpeg:https://fightingspirittkd.co.uk/wp-content/uploads/2023/11/IMG_0057-e1755515954706.jpeg
END:VEVENT
END:VCALENDAR