BEGIN:VCALENDAR
VERSION:2.0
PRODID:-// - ECPv5.11.0//NONSGML v1.0//EN
CALSCALE:GREGORIAN
METHOD:PUBLISH
X-ORIGINAL-URL:https://fightingspirittkd.co.uk
X-WR-CALDESC:Events for 
BEGIN:VTIMEZONE
TZID:UTC
BEGIN:STANDARD
TZOFFSETFROM:+0000
TZOFFSETTO:+0000
TZNAME:UTC
DTSTART:20250101T000000
END:STANDARD
END:VTIMEZONE
BEGIN:VEVENT
DTSTART;VALUE=DATE:20250705
DTEND;VALUE=DATE:20250706
DTSTAMP:20260422T045053
CREATED:20250311T140014Z
LAST-MODIFIED:20250311T140014Z
UID:3141-1751673600-1751759999@fightingspirittkd.co.uk
SUMMARY:4th Best Leg Poomsae Championships
DESCRIPTION:5th July 2025\nCrystal Palace National Sports Centre\, London\, SE19 2B\nIt is the hope of the competition organisers that this event will serve to help stimulate and develop the growing interest in WT Poomsae Competition throughout the U.K. Therefore\, in order that everyone from complete novice to experienced competitor gets an opportunity to compete to their full potential the organising body has modified the age divisions for this Competition and included Dan\, K1\, K2\, K3\, Para divisions (Dan & Kup) and for the first time Freestyle division.
URL:https://fightingspirittkd.co.uk/event/4th-best-leg-poomsae-championships/
LOCATION:Crystal Palace National Sports Centre\, London\, SE19 2BB
CATEGORIES:Events,Poomsae
ATTACH;FMTTYPE=image/jpeg:https://fightingspirittkd.co.uk/wp-content/uploads/2023/07/IMG_4652-e1705590600556.jpeg
END:VEVENT
END:VCALENDAR