BEGIN:VCALENDAR
VERSION:2.0
PRODID:-// - ECPv5.11.0//NONSGML v1.0//EN
CALSCALE:GREGORIAN
METHOD:PUBLISH
X-ORIGINAL-URL:https://fightingspirittkd.co.uk
X-WR-CALDESC:Events for 
BEGIN:VTIMEZONE
TZID:UTC
BEGIN:STANDARD
TZOFFSETFROM:+0000
TZOFFSETTO:+0000
TZNAME:UTC
DTSTART:20240101T000000
END:STANDARD
END:VTIMEZONE
BEGIN:VEVENT
DTSTART;VALUE=DATE:20240706
DTEND;VALUE=DATE:20240707
DTSTAMP:20260423T142510
CREATED:20240118T151026Z
LAST-MODIFIED:20240118T154316Z
UID:2716-1720224000-1720310399@fightingspirittkd.co.uk
SUMMARY:3rd Best Leg Poomsae Championships
DESCRIPTION:3rd Best Leg Poomsae Championships\n6th July 2024 Crystal Palace National Sports Centre\, London\, SE19 2B \n  \nCOMPETITON DETAILS \n1. ORGANISATION \nEvent Sanctioned By: British Taekwondo \nOrganiser: Best Leg Taekwondo Academy \nFacebook: www.facebook.com/best-Leg-Taekwondo-Academy \nInstagram: bestlegtkdinternationalopen & bestlegtaekwondoacademy. \nWebsite: www.bestleg.com \nCompetition Director: Master Martins Obiorah \nE-Mail: martins.obiorah@bestleg.com \nEvent Chief Referee: Gerry REILLY Email: chair.poomsaereferees@britishtaekwondo.org \nCompetition Management: Ski Kanji System Management: \nMarko Marchevska Competition Registration: www.poomsae-reg.com \nWelfare Officer: Ms Jade Campbell Lead Medical Officer: \nDR Burhanudin Busu \n2. VENUE & DATE Date: Saturday 6th July 2024 Venue: \nCrystal Palace National Sports Centre Ledrington Road\, Crystal Palace London\, SE19 2BB \n3. EVENT SCHEDULE \nRegistration: 08:30 – 09:00 \nCoaches meeting: 09:10 \nCompetition Start: 09:30 \nCompetition Finish: 18:00 \nAwards Ceremony: 18:30 \nAll times are approximate and subject to change
URL:https://fightingspirittkd.co.uk/event/3rd-best-leg-poomsae-championships/
LOCATION:Crystal Palace National Sports Centre\, London\, SE19 2BB
CATEGORIES:Poomsae
ATTACH;FMTTYPE=image/jpeg:https://fightingspirittkd.co.uk/wp-content/uploads/2023/07/IMG_4652-e1705590600556.jpeg
END:VEVENT
END:VCALENDAR