BEGIN:VCALENDAR
VERSION:2.0
PRODID:-// - ECPv5.11.0//NONSGML v1.0//EN
CALSCALE:GREGORIAN
METHOD:PUBLISH
X-ORIGINAL-URL:https://fightingspirittkd.co.uk
X-WR-CALDESC:Events for 
BEGIN:VTIMEZONE
TZID:UTC
BEGIN:STANDARD
TZOFFSETFROM:+0000
TZOFFSETTO:+0000
TZNAME:UTC
DTSTART:20240101T000000
END:STANDARD
END:VTIMEZONE
BEGIN:VEVENT
DTSTART;VALUE=DATE:20240512
DTEND;VALUE=DATE:20240513
DTSTAMP:20260425T121804
CREATED:20240118T145321Z
LAST-MODIFIED:20240118T154219Z
UID:2710-1715472000-1715558399@fightingspirittkd.co.uk
SUMMARY:London Taekwondo Poomsae
DESCRIPTION:London Taekwondo Poomsae Championships\nSunday 12th May 2024 \n Haberdashers’ Knights Academy\, Launcelot Road\, Bromley BR1 5EB\nDear Taekwondo Friends\, \nIt is our pleasure to welcome you and your students to the 4th London Taekwondo Poomsae Championships. \nThe event will be run under existing World Taekwondo Poomsae Competition rules. \nThe aim of this competition is to help Kup grades to develop\, gain confidence and provide an opportunity for them to compete. \nWe look forward to welcoming you all to London and hope you have an enjoyable and successful day. \n  \n1. Competition Organising Committee \n1.1. Event Organiser Master Azim Razak (7th Dan) Tel: 07887 783952 Email: londonpoomsaechampionship2024@gmail.com \n1.2. Event Director Master Chi Lai (5th Dan) Tel: 07742 159239 Email: londonpoomsaechampionship2024@gmail.com \n2. Competition Date and Time Sunday\, 12th May 2024 (Start time: 9.30am sharp) \n3. Competition Venue Haberdashers’ Knights Academy\, Launcelot Road\, Bromley BR1 5EB (Access to hall from 8.30am) \n4. Competition Closing date for entries Payment must be made on or before Friday\, 19th April 2024 \n5. Competition Poomsae Officials Competition Manager: Master Chi Lai (5th Dan) Chief Referee: – GM Gerry Reilly
URL:https://fightingspirittkd.co.uk/event/2710/
CATEGORIES:Poomsae
ATTACH;FMTTYPE=image/png:https://fightingspirittkd.co.uk/wp-content/uploads/2023/02/Screenshot-2023-02-18-at-17.22.48.png
END:VEVENT
END:VCALENDAR